BEGIN:VCALENDAR
VERSION:2.0
PRODID:-//Tukios.com/
BEGIN:VEVENT
UID:954c6e27-9ee0-40dd-81bf-9a32fa93f453@www.canefuneralhome.com
DTSTAMP:20260423T211246Z
DTSTART:20260425T140000Z
DTEND:20260425T151500Z
SUMMARY:Visitation
DESCRIPTION:
URL:https://www.canefuneralhome.com/obituaries/caryl-johnson
LOCATION:St. Paul's Lutheran Church 1409 Ridge Ave.  Mass City MI 49948
GEO:46.7647068;-89.0800626
END:VEVENT
END:VCALENDAR