BEGIN:VCALENDAR
VERSION:2.0
PRODID:-//Tukios.com/
BEGIN:VEVENT
UID:b5b7ed23-e081-419c-b854-c32750959fc5@www.canefuneralhome.com
DTSTAMP:20260423T211124Z
DTSTART:20260425T150000Z
DTEND:20260425T160000Z
SUMMARY:Funeral Service
DESCRIPTION:
URL:https://www.canefuneralhome.com/obituaries/caryl-johnson
LOCATION: 1409 Ridge Ave.  Mass City MI 49948
GEO:46.7647068;-89.0800626
END:VEVENT
END:VCALENDAR