BEGIN:VCALENDAR
VERSION:2.0
PRODID:-//Tukios.com/
BEGIN:VEVENT
UID:2b880787-372c-413f-8a42-6ff1b84b1453@www.canefuneralhome.com
DTSTAMP:20260423T211026Z
DTSTART:20260425T160000Z
DTEND:20260425T170000Z
SUMMARY:Burial
DESCRIPTION:
URL:https://www.canefuneralhome.com/obituaries/caryl-johnson
LOCATION: Elm Street  Greenland MI 49929
GEO:46.7805095;-89.0964212
END:VEVENT
END:VCALENDAR